Package: fdrame Version: 1.79.0 Command: chmod a+r fdrame -R && E:\biocbuild\bbs-3.21-bioc\R\bin\R.exe CMD build --keep-empty-dirs --no-resave-data fdrame StartedAt: 2025-02-09 18:41:45 -0500 (Sun, 09 Feb 2025) EndedAt: 2025-02-09 18:42:02 -0500 (Sun, 09 Feb 2025) EllapsedTime: 17.0 seconds RetCode: 0 Status: OK PackageFile: fdrame_1.79.0.tar.gz PackageFileSize: 915.7 KiB