Package: fdrame Version: 1.79.0 Command: E:\biocbuild\bbs-3.21-bioc\R\bin\R.exe CMD INSTALL fdrame StartedAt: 2025-02-09 15:19:00 -0500 (Sun, 09 Feb 2025) EndedAt: 2025-02-09 15:19:23 -0500 (Sun, 09 Feb 2025) EllapsedTime: 22.9 seconds RetCode: 0 Status: OK