Package: fedup Version: 1.15.0 Command: /Library/Frameworks/R.framework/Resources/bin/R CMD check --install=check:fedup.install-out.txt --library=/Library/Frameworks/R.framework/Resources/library --no-vignettes --timings fedup_1.15.0.tar.gz StartedAt: 2025-02-09 19:12:40 -0500 (Sun, 09 Feb 2025) EndedAt: 2025-02-09 19:14:05 -0500 (Sun, 09 Feb 2025) EllapsedTime: 85.0 seconds RetCode: 0 Status: OK CheckDir: fedup.Rcheck Warnings: 0