Package: fedup Version: 1.15.0 Command: rm -rf fedup.buildbin-libdir && mkdir fedup.buildbin-libdir && /Users/biocbuild/BBS/utils/build-universal.sh fedup_1.15.0.tar.gz /Library/Frameworks/R.framework/Resources/bin/R fedup.buildbin-libdir StartedAt: 2025-02-13 00:36:36 -0500 (Thu, 13 Feb 2025) EndedAt: 2025-02-13 00:36:50 -0500 (Thu, 13 Feb 2025) EllapsedTime: 13.9 seconds RetCode: 0 Status: OK PackageFile: fedup_1.15.0.tgz PackageFileSize: 4.437 MiB