Package: fedup Version: 1.15.0 Command: E:\biocbuild\bbs-3.21-bioc\R\bin\R.exe CMD check --no-multiarch --install=check:fedup.install-out.txt --library=E:\biocbuild\bbs-3.21-bioc\R\library --no-vignettes --timings fedup_1.15.0.tar.gz StartedAt: 2025-02-13 01:15:41 -0500 (Thu, 13 Feb 2025) EndedAt: 2025-02-13 01:20:07 -0500 (Thu, 13 Feb 2025) EllapsedTime: 266.3 seconds RetCode: 0 Status: OK CheckDir: fedup.Rcheck Warnings: 0