Package: fenr Version: 1.5.1 Maintainer: Marek Gierlinski MaintainerEmail: M.Gierlinski at dundee.ac.uk git_url: https://git.bioconductor.org/packages/fenr git_branch: devel git_last_commit: caca37f git_last_commit_date: 2025-01-08 09:25:57 -0500 (Wed, 08 Jan 2025)