Package: fenr Version: 1.5.1 Command: rm -rf fenr.buildbin-libdir && mkdir fenr.buildbin-libdir && /Users/biocbuild/BBS/utils/build-universal.sh fenr_1.5.1.tar.gz /Library/Frameworks/R.framework/Resources/bin/R fenr.buildbin-libdir StartedAt: 2025-02-09 22:14:19 -0500 (Sun, 09 Feb 2025) EndedAt: 2025-02-09 22:14:21 -0500 (Sun, 09 Feb 2025) EllapsedTime: 2.1 seconds RetCode: 0 Status: OK PackageFile: fenr_1.5.1.tgz PackageFileSize: 1.748 MiB