Package: fenr Version: 1.5.1 Command: /Library/Frameworks/R.framework/Resources/bin/R CMD build --keep-empty-dirs --no-resave-data fenr StartedAt: 2025-02-12 16:19:11 -0500 (Wed, 12 Feb 2025) EndedAt: 2025-02-12 16:19:22 -0500 (Wed, 12 Feb 2025) EllapsedTime: 11.1 seconds RetCode: 0 Status: OK PackageFile: fenr_1.5.1.tar.gz PackageFileSize: 1.927 MiB