Package: fenr Version: 1.5.1 Command: /Library/Frameworks/R.framework/Resources/bin/R CMD INSTALL fenr StartedAt: 2025-02-09 15:15:21 -0500 (Sun, 09 Feb 2025) EndedAt: 2025-02-09 15:15:24 -0500 (Sun, 09 Feb 2025) EllapsedTime: 2.3 seconds RetCode: 0 Status: OK