Package: fenr Version: 1.5.1 Command: /Library/Frameworks/R.framework/Resources/bin/R CMD build --keep-empty-dirs --no-resave-data fenr StartedAt: 2025-02-09 16:45:03 -0500 (Sun, 09 Feb 2025) EndedAt: 2025-02-09 16:45:51 -0500 (Sun, 09 Feb 2025) EllapsedTime: 47.4 seconds RetCode: 0 Status: OK PackageFile: fenr_1.5.1.tar.gz PackageFileSize: 1.927 MiB