Package: fenr Version: 1.5.1 Command: /Library/Frameworks/R.framework/Resources/bin/R CMD check --install=check:fenr.install-out.txt --library=/Library/Frameworks/R.framework/Resources/library --no-vignettes --timings fenr_1.5.1.tar.gz StartedAt: 2025-02-09 20:41:56 -0500 (Sun, 09 Feb 2025) EndedAt: 2025-02-09 20:46:05 -0500 (Sun, 09 Feb 2025) EllapsedTime: 248.4 seconds RetCode: 0 Status: OK CheckDir: fenr.Rcheck Warnings: 0