Package: fenr Version: 1.5.1 Command: /home/biocbuild/bbs-3.21-bioc/R/bin/R CMD build --keep-empty-dirs --no-resave-data fenr StartedAt: 2025-02-09 17:14:33 -0500 (Sun, 09 Feb 2025) EndedAt: 2025-02-09 17:14:58 -0500 (Sun, 09 Feb 2025) EllapsedTime: 25.0 seconds RetCode: 0 Status: OK PackageFile: fenr_1.5.1.tar.gz PackageFileSize: 1.927 MiB