Package: fenr Version: 1.5.1 Command: /home/biocbuild/bbs-3.21-bioc/R/bin/R CMD check --install=check:fenr.install-out.txt --library=/home/biocbuild/bbs-3.21-bioc/R/site-library --timings fenr_1.5.1.tar.gz StartedAt: 2025-02-09 22:18:01 -0500 (Sun, 09 Feb 2025) EndedAt: 2025-02-09 22:21:09 -0500 (Sun, 09 Feb 2025) EllapsedTime: 188.3 seconds RetCode: 0 Status: OK CheckDir: fenr.Rcheck Warnings: 0