Package: fenr Version: 1.5.1 Command: rm -rf fenr.buildbin-libdir && mkdir fenr.buildbin-libdir && E:\biocbuild\bbs-3.21-bioc\R\bin\R.exe CMD INSTALL --build --library=fenr.buildbin-libdir fenr_1.5.1.tar.gz StartedAt: 2025-02-10 07:44:53 -0500 (Mon, 10 Feb 2025) EndedAt: 2025-02-10 07:45:15 -0500 (Mon, 10 Feb 2025) EllapsedTime: 22.1 seconds RetCode: 0 Status: OK PackageFile: fenr_1.5.1.zip PackageFileSize: 1.75 MiB