Package: fenr Version: 1.5.1 Command: E:\biocbuild\bbs-3.21-bioc\R\bin\R.exe CMD INSTALL fenr StartedAt: 2025-02-09 15:36:39 -0500 (Sun, 09 Feb 2025) EndedAt: 2025-02-09 15:36:54 -0500 (Sun, 09 Feb 2025) EllapsedTime: 15.1 seconds RetCode: 0 Status: OK