Package: ffpe Version: 1.51.0 Command: /Library/Frameworks/R.framework/Resources/bin/R CMD INSTALL ffpe StartedAt: 2025-02-04 15:28:22 -0500 (Tue, 04 Feb 2025) EndedAt: 2025-02-04 15:28:42 -0500 (Tue, 04 Feb 2025) EllapsedTime: 19.6 seconds RetCode: 0 Status: OK