Package: ffpe Version: 1.51.0 Command: rm -rf ffpe.buildbin-libdir && mkdir ffpe.buildbin-libdir && /Users/biocbuild/BBS/utils/build-universal.sh ffpe_1.51.0.tar.gz /Library/Frameworks/R.framework/Resources/bin/R ffpe.buildbin-libdir StartedAt: 2025-02-05 00:39:50 -0500 (Wed, 05 Feb 2025) EndedAt: 2025-02-05 00:40:55 -0500 (Wed, 05 Feb 2025) EllapsedTime: 65.3 seconds RetCode: 0 Status: OK PackageFile: ffpe_1.51.0.tgz PackageFileSize: 298.8 KiB