Package: ffpe Version: 1.51.0 Command: /Library/Frameworks/R.framework/Resources/bin/R CMD build --keep-empty-dirs --no-resave-data ffpe StartedAt: 2025-02-04 16:41:40 -0500 (Tue, 04 Feb 2025) EndedAt: 2025-02-04 16:43:13 -0500 (Tue, 04 Feb 2025) EllapsedTime: 92.5 seconds RetCode: 0 Status: OK PackageFile: ffpe_1.51.0.tar.gz PackageFileSize: 267.4 KiB