Package: ffpe Version: 1.51.0 Command: /home/biocbuild/bbs-3.21-bioc/R/bin/R CMD check --install=check:ffpe.install-out.txt --library=/home/biocbuild/bbs-3.21-bioc/R/site-library --timings ffpe_1.51.0.tar.gz StartedAt: 2025-02-04 22:17:36 -0500 (Tue, 04 Feb 2025) EndedAt: 2025-02-04 22:23:43 -0500 (Tue, 04 Feb 2025) EllapsedTime: 366.6 seconds RetCode: 0 Status: OK CheckDir: ffpe.Rcheck Warnings: 0