Package: ffpe Version: 1.51.0 Command: rm -rf ffpe.buildbin-libdir && mkdir ffpe.buildbin-libdir && E:\biocbuild\bbs-3.21-bioc\R\bin\R.exe CMD INSTALL --build --library=ffpe.buildbin-libdir ffpe_1.51.0.tar.gz StartedAt: 2025-02-10 07:44:59 -0500 (Mon, 10 Feb 2025) EndedAt: 2025-02-10 07:45:55 -0500 (Mon, 10 Feb 2025) EllapsedTime: 56.2 seconds RetCode: 0 Status: OK PackageFile: ffpe_1.51.0.zip PackageFileSize: 198.3 KiB