Package: ffpe Version: 1.51.0 Command: chmod a+r ffpe -R && E:\biocbuild\bbs-3.21-bioc\R\bin\R.exe CMD build --keep-empty-dirs --no-resave-data ffpe StartedAt: 2025-02-04 18:44:35 -0500 (Tue, 04 Feb 2025) EndedAt: 2025-02-04 18:46:04 -0500 (Tue, 04 Feb 2025) EllapsedTime: 89.4 seconds RetCode: 0 Status: OK PackageFile: ffpe_1.51.0.tar.gz PackageFileSize: 163.7 KiB