Package: fgga Version: 1.15.0 Maintainer: Flavio Spetale MaintainerEmail: spetale at cifasis-conicet.gov.ar git_url: https://git.bioconductor.org/packages/fgga git_branch: devel git_last_commit: df19642 git_last_commit_date: 2024-10-29 10:59:37 -0500 (Tue, 29 Oct 2024)