Package: fgga Version: 1.15.0 Command: /home/biocbuild/R/R/bin/R CMD INSTALL fgga StartedAt: 2025-01-29 19:46:26 -0000 (Wed, 29 Jan 2025) EndedAt: 2025-01-29 19:46:40 -0000 (Wed, 29 Jan 2025) EllapsedTime: 13.7 seconds RetCode: 0 Status: OK