Package: fgga Version: 1.15.0 Command: /Library/Frameworks/R.framework/Resources/bin/R CMD INSTALL fgga StartedAt: 2025-02-04 15:12:53 -0500 (Tue, 04 Feb 2025) EndedAt: 2025-02-04 15:13:08 -0500 (Tue, 04 Feb 2025) EllapsedTime: 15.1 seconds RetCode: 0 Status: OK