Package: fgga Version: 1.15.0 Command: /home/biocbuild/bbs-3.21-bioc/R/bin/R CMD build --keep-empty-dirs --no-resave-data fgga StartedAt: 2025-02-09 17:14:46 -0500 (Sun, 09 Feb 2025) EndedAt: 2025-02-09 17:15:35 -0500 (Sun, 09 Feb 2025) EllapsedTime: 49.1 seconds RetCode: 0 Status: OK PackageFile: fgga_1.15.0.tar.gz PackageFileSize: 1.434 MiB