Package: fgga Version: 1.15.0 Command: /home/biocbuild/bbs-3.21-bioc/R/bin/R CMD check --install=check:fgga.install-out.txt --library=/home/biocbuild/bbs-3.21-bioc/R/site-library --timings fgga_1.15.0.tar.gz StartedAt: 2025-02-09 22:18:09 -0500 (Sun, 09 Feb 2025) EndedAt: 2025-02-09 22:20:47 -0500 (Sun, 09 Feb 2025) EllapsedTime: 158.2 seconds RetCode: 0 Status: OK CheckDir: fgga.Rcheck Warnings: 0