Package: fgga Version: 1.15.0 Command: rm -rf fgga.buildbin-libdir && mkdir fgga.buildbin-libdir && E:\biocbuild\bbs-3.21-bioc\R\bin\R.exe CMD INSTALL --build --library=fgga.buildbin-libdir fgga_1.15.0.tar.gz StartedAt: 2025-02-10 07:45:03 -0500 (Mon, 10 Feb 2025) EndedAt: 2025-02-10 07:45:25 -0500 (Mon, 10 Feb 2025) EllapsedTime: 21.5 seconds RetCode: 0 Status: OK PackageFile: fgga_1.15.0.zip PackageFileSize: 1.323 MiB