Package: fgga Version: 1.15.0 Command: chmod a+r fgga -R && E:\biocbuild\bbs-3.21-bioc\R\bin\R.exe CMD build --keep-empty-dirs --no-resave-data fgga StartedAt: 2025-02-09 18:42:32 -0500 (Sun, 09 Feb 2025) EndedAt: 2025-02-09 18:43:27 -0500 (Sun, 09 Feb 2025) EllapsedTime: 55.0 seconds RetCode: 0 Status: OK PackageFile: fgga_1.15.0.tar.gz PackageFileSize: 1.306 MiB