Package: fgga Version: 1.15.0 Command: E:\biocbuild\bbs-3.21-bioc\R\bin\R.exe CMD INSTALL fgga StartedAt: 2025-02-09 15:35:45 -0500 (Sun, 09 Feb 2025) EndedAt: 2025-02-09 15:36:07 -0500 (Sun, 09 Feb 2025) EllapsedTime: 22.4 seconds RetCode: 0 Status: OK