Package: findIPs Version: 1.3.1 Command: /Library/Frameworks/R.framework/Resources/bin/R CMD build --keep-empty-dirs --no-resave-data findIPs StartedAt: 2025-02-09 16:19:37 -0500 (Sun, 09 Feb 2025) EndedAt: 2025-02-09 16:21:07 -0500 (Sun, 09 Feb 2025) EllapsedTime: 90.0 seconds RetCode: 0 Status: OK PackageFile: findIPs_1.3.1.tar.gz PackageFileSize: 2.293 MiB