Package: findIPs Version: 1.3.1 Command: /Library/Frameworks/R.framework/Resources/bin/R CMD check --install=check:findIPs.install-out.txt --library=/Library/Frameworks/R.framework/Resources/library --no-vignettes --timings findIPs_1.3.1.tar.gz StartedAt: 2025-02-09 19:13:30 -0500 (Sun, 09 Feb 2025) EndedAt: 2025-02-09 19:15:38 -0500 (Sun, 09 Feb 2025) EllapsedTime: 128.5 seconds RetCode: 0 Status: OK CheckDir: findIPs.Rcheck Warnings: 0