Package: findIPs Version: 1.3.1 Command: /Library/Frameworks/R.framework/Resources/bin/R CMD INSTALL findIPs StartedAt: 2025-02-09 15:20:12 -0500 (Sun, 09 Feb 2025) EndedAt: 2025-02-09 15:20:21 -0500 (Sun, 09 Feb 2025) EllapsedTime: 8.1 seconds RetCode: 0 Status: OK