Package: findIPs Version: 1.3.1 Command: /home/biocbuild/R/R/bin/R CMD build --keep-empty-dirs --no-resave-data findIPs StartedAt: 2025-01-28 22:53:37 -0000 (Tue, 28 Jan 2025) EndedAt: 2025-01-28 23:00:31 -0000 (Tue, 28 Jan 2025) EllapsedTime: 414.2 seconds RetCode: 0 Status: OK PackageFile: findIPs_1.3.1.tar.gz PackageFileSize: 2.296 MiB