Package: findIPs Version: 1.3.1 Command: /home/biocbuild/R/R/bin/R CMD check --install=check:findIPs.install-out.txt --library=/home/biocbuild/R/R/site-library --no-vignettes --timings findIPs_1.3.1.tar.gz StartedAt: 2025-01-28 10:36:53 -0000 (Tue, 28 Jan 2025) EndedAt: 2025-01-28 10:46:11 -0000 (Tue, 28 Jan 2025) EllapsedTime: 558.6 seconds RetCode: 0 Status: OK CheckDir: findIPs.Rcheck Warnings: 0