Package: findIPs Version: 1.3.1 Command: /home/biocbuild/R/R/bin/R CMD INSTALL findIPs StartedAt: 2025-01-29 20:17:16 -0000 (Wed, 29 Jan 2025) EndedAt: 2025-01-29 20:17:42 -0000 (Wed, 29 Jan 2025) EllapsedTime: 26.6 seconds RetCode: 0 Status: OK