Package: findIPs Version: 1.3.1 Command: /Library/Frameworks/R.framework/Resources/bin/R CMD INSTALL findIPs StartedAt: 2025-02-03 15:36:52 -0500 (Mon, 03 Feb 2025) EndedAt: 2025-02-03 15:37:18 -0500 (Mon, 03 Feb 2025) EllapsedTime: 26.1 seconds RetCode: 0 Status: OK