Package: findIPs Version: 1.3.1 Command: /home/biocbuild/bbs-3.21-bioc/R/bin/R CMD check --install=check:findIPs.install-out.txt --library=/home/biocbuild/bbs-3.21-bioc/R/site-library --timings findIPs_1.3.1.tar.gz StartedAt: 2025-02-03 22:27:20 -0500 (Mon, 03 Feb 2025) EndedAt: 2025-02-03 22:38:25 -0500 (Mon, 03 Feb 2025) EllapsedTime: 665.1 seconds RetCode: 0 Status: OK CheckDir: findIPs.Rcheck Warnings: 0