Package: findIPs Version: 1.3.1 Command: /home/biocbuild/bbs-3.21-bioc/R/bin/R CMD INSTALL findIPs StartedAt: 2025-02-03 15:29:55 -0500 (Mon, 03 Feb 2025) EndedAt: 2025-02-03 15:30:15 -0500 (Mon, 03 Feb 2025) EllapsedTime: 19.6 seconds RetCode: 0 Status: OK