Package: findIPs Version: 1.3.1 Command: chmod a+r findIPs -R && E:\biocbuild\bbs-3.21-bioc\R\bin\R.exe CMD build --keep-empty-dirs --no-resave-data findIPs StartedAt: 2025-02-09 18:42:53 -0500 (Sun, 09 Feb 2025) EndedAt: 2025-02-09 18:48:25 -0500 (Sun, 09 Feb 2025) EllapsedTime: 332.2 seconds RetCode: 0 Status: OK PackageFile: findIPs_1.3.1.tar.gz PackageFileSize: 2.188 MiB