Package: findIPs Version: 1.3.1 Command: E:\biocbuild\bbs-3.21-bioc\R\bin\R.exe CMD INSTALL findIPs StartedAt: 2025-02-03 16:23:50 -0500 (Mon, 03 Feb 2025) EndedAt: 2025-02-03 16:24:13 -0500 (Mon, 03 Feb 2025) EllapsedTime: 22.7 seconds RetCode: 0 Status: OK