Package: fishpond Version: 2.13.0 Command: /Library/Frameworks/R.framework/Resources/bin/R CMD build --keep-empty-dirs --no-resave-data fishpond StartedAt: 2025-02-12 16:19:35 -0500 (Wed, 12 Feb 2025) EndedAt: 2025-02-12 16:21:19 -0500 (Wed, 12 Feb 2025) EllapsedTime: 104.2 seconds RetCode: 0 Status: OK PackageFile: fishpond_2.13.0.tar.gz PackageFileSize: 4.278 MiB