Package: fishpond Version: 2.13.0 Command: /home/biocbuild/R/R/bin/R CMD build --keep-empty-dirs --no-resave-data fishpond StartedAt: 2025-01-28 22:53:54 -0000 (Tue, 28 Jan 2025) EndedAt: 2025-01-28 23:00:16 -0000 (Tue, 28 Jan 2025) EllapsedTime: 382.2 seconds RetCode: 0 Status: OK PackageFile: fishpond_2.13.0.tar.gz PackageFileSize: 2.463 MiB