Package: fishpond Version: 2.13.0 Command: /home/biocbuild/bbs-3.21-bioc/R/bin/R CMD build --keep-empty-dirs --no-resave-data fishpond StartedAt: 2025-02-09 17:15:03 -0500 (Sun, 09 Feb 2025) EndedAt: 2025-02-09 17:18:55 -0500 (Sun, 09 Feb 2025) EllapsedTime: 231.4 seconds RetCode: 0 Status: OK PackageFile: fishpond_2.13.0.tar.gz PackageFileSize: 3.915 MiB