Package: fishpond Version: 2.13.0 Command: /home/biocbuild/bbs-3.21-bioc/R/bin/R CMD INSTALL fishpond StartedAt: 2025-02-09 15:21:28 -0500 (Sun, 09 Feb 2025) EndedAt: 2025-02-09 15:21:52 -0500 (Sun, 09 Feb 2025) EllapsedTime: 24.0 seconds RetCode: 0 Status: OK