Package: fishpond Version: 2.13.0 Command: rm -rf fishpond.buildbin-libdir && mkdir fishpond.buildbin-libdir && E:\biocbuild\bbs-3.21-bioc\R\bin\R.exe CMD INSTALL --build --library=fishpond.buildbin-libdir fishpond_2.13.0.tar.gz StartedAt: 2025-02-10 07:45:21 -0500 (Mon, 10 Feb 2025) EndedAt: 2025-02-10 07:46:05 -0500 (Mon, 10 Feb 2025) EllapsedTime: 43.9 seconds RetCode: 0 Status: OK PackageFile: fishpond_2.13.0.zip PackageFileSize: 1.576 MiB