Package: flagme Version: 1.63.0 Command: /home/biocbuild/R/R/bin/R CMD build --keep-empty-dirs --no-resave-data flagme StartedAt: 2025-01-28 22:54:05 -0000 (Tue, 28 Jan 2025) EndedAt: 2025-01-28 22:58:53 -0000 (Tue, 28 Jan 2025) EllapsedTime: 288.1 seconds RetCode: 0 Status: OK PackageFile: flagme_1.63.0.tar.gz PackageFileSize: 724.4 KiB