Package: flagme Version: 1.63.0 Command: /Library/Frameworks/R.framework/Resources/bin/R CMD build --keep-empty-dirs --no-resave-data flagme StartedAt: 2025-02-12 16:43:42 -0500 (Wed, 12 Feb 2025) EndedAt: 2025-02-12 16:47:26 -0500 (Wed, 12 Feb 2025) EllapsedTime: 224.2 seconds RetCode: 0 Status: OK PackageFile: flagme_1.63.0.tar.gz PackageFileSize: 725.8 KiB