Package: flagme Version: 1.63.0 Command: /Library/Frameworks/R.framework/Resources/bin/R CMD check --install=check:flagme.install-out.txt --library=/Library/Frameworks/R.framework/Resources/library --no-vignettes --timings flagme_1.63.0.tar.gz StartedAt: 2025-02-09 20:43:51 -0500 (Sun, 09 Feb 2025) EndedAt: 2025-02-09 20:59:04 -0500 (Sun, 09 Feb 2025) EllapsedTime: 912.9 seconds RetCode: 0 Status: WARNINGS CheckDir: flagme.Rcheck Warnings: 2