Package: flagme Version: 1.63.0 Command: /home/biocbuild/bbs-3.21-bioc/R/bin/R CMD build --keep-empty-dirs --no-resave-data flagme StartedAt: 2025-02-12 17:11:51 -0500 (Wed, 12 Feb 2025) EndedAt: 2025-02-12 17:15:12 -0500 (Wed, 12 Feb 2025) EllapsedTime: 200.3 seconds RetCode: 0 Status: OK PackageFile: flagme_1.63.0.tar.gz PackageFileSize: 726.7 KiB