Package: flagme Version: 1.63.0 Command: rm -rf flagme.buildbin-libdir && mkdir flagme.buildbin-libdir && E:\biocbuild\bbs-3.21-bioc\R\bin\R.exe CMD INSTALL --build --library=flagme.buildbin-libdir flagme_1.63.0.tar.gz StartedAt: 2025-02-10 07:45:25 -0500 (Mon, 10 Feb 2025) EndedAt: 2025-02-10 07:46:39 -0500 (Mon, 10 Feb 2025) EllapsedTime: 74.1 seconds RetCode: 0 Status: OK PackageFile: flagme_1.63.0.zip PackageFileSize: 955.4 KiB